BEGIN:VCALENDAR
VERSION:2.0
PRODID:-//尾道三菱自動車販売株式会社 - ECPv6.14.2//NONSGML v1.0//EN
CALSCALE:GREGORIAN
METHOD:PUBLISH
X-ORIGINAL-URL:https://onomichi-mitsubishi.com
X-WR-CALDESC:尾道三菱自動車販売株式会社 のイベント
REFRESH-INTERVAL;VALUE=DURATION:PT1H
X-Robots-Tag:noindex
X-PUBLISHED-TTL:PT1H
BEGIN:VTIMEZONE
TZID:Asia/Tokyo
BEGIN:STANDARD
TZOFFSETFROM:+0900
TZOFFSETTO:+0900
TZNAME:JST
DTSTART:20250101T000000
END:STANDARD
END:VTIMEZONE
BEGIN:VEVENT
DTSTART;VALUE=DATE:20250501
DTEND;VALUE=DATE:20250502
DTSTAMP:20260424T084048
CREATED:20250318T061055Z
LAST-MODIFIED:20250318T063913Z
UID:1841-1746057600-1746143999@onomichi-mitsubishi.com
SUMMARY:休業日
DESCRIPTION:
URL:https://onomichi-mitsubishi.com/event/%e4%bc%91%e6%a5%ad%e6%97%a5-248/
CATEGORIES:休業日
END:VEVENT
BEGIN:VEVENT
DTSTART;VALUE=DATE:20250502
DTEND;VALUE=DATE:20250503
DTSTAMP:20260424T084048
CREATED:20250318T061055Z
LAST-MODIFIED:20250318T063913Z
UID:1842-1746144000-1746230399@onomichi-mitsubishi.com
SUMMARY:休業日
DESCRIPTION:
URL:https://onomichi-mitsubishi.com/event/%e4%bc%91%e6%a5%ad%e6%97%a5-249/
CATEGORIES:休業日
END:VEVENT
BEGIN:VEVENT
DTSTART;VALUE=DATE:20250503
DTEND;VALUE=DATE:20250504
DTSTAMP:20260424T084048
CREATED:20250318T061056Z
LAST-MODIFIED:20250318T063914Z
UID:1843-1746230400-1746316799@onomichi-mitsubishi.com
SUMMARY:休業日
DESCRIPTION:
URL:https://onomichi-mitsubishi.com/event/%e4%bc%91%e6%a5%ad%e6%97%a5-250/
CATEGORIES:休業日
END:VEVENT
BEGIN:VEVENT
DTSTART;VALUE=DATE:20250504
DTEND;VALUE=DATE:20250505
DTSTAMP:20260424T084048
CREATED:20250318T061056Z
LAST-MODIFIED:20250318T063914Z
UID:1844-1746316800-1746403199@onomichi-mitsubishi.com
SUMMARY:休業日
DESCRIPTION:
URL:https://onomichi-mitsubishi.com/event/%e4%bc%91%e6%a5%ad%e6%97%a5-251/
CATEGORIES:休業日
END:VEVENT
BEGIN:VEVENT
DTSTART;VALUE=DATE:20250505
DTEND;VALUE=DATE:20250506
DTSTAMP:20260424T084048
CREATED:20250318T061057Z
LAST-MODIFIED:20250318T063915Z
UID:1845-1746403200-1746489599@onomichi-mitsubishi.com
SUMMARY:休業日
DESCRIPTION:
URL:https://onomichi-mitsubishi.com/event/%e4%bc%91%e6%a5%ad%e6%97%a5-252/
CATEGORIES:休業日
END:VEVENT
BEGIN:VEVENT
DTSTART;VALUE=DATE:20250506
DTEND;VALUE=DATE:20250507
DTSTAMP:20260424T084048
CREATED:20250318T061058Z
LAST-MODIFIED:20250318T063915Z
UID:1846-1746489600-1746575999@onomichi-mitsubishi.com
SUMMARY:休業日
DESCRIPTION:
URL:https://onomichi-mitsubishi.com/event/%e4%bc%91%e6%a5%ad%e6%97%a5-253/
CATEGORIES:休業日
END:VEVENT
BEGIN:VEVENT
DTSTART;VALUE=DATE:20250512
DTEND;VALUE=DATE:20250513
DTSTAMP:20260424T084048
CREATED:20250318T061059Z
LAST-MODIFIED:20250318T063915Z
UID:1847-1747008000-1747094399@onomichi-mitsubishi.com
SUMMARY:休業日
DESCRIPTION:
URL:https://onomichi-mitsubishi.com/event/%e4%bc%91%e6%a5%ad%e6%97%a5-254/
CATEGORIES:休業日
END:VEVENT
BEGIN:VEVENT
DTSTART;VALUE=DATE:20250519
DTEND;VALUE=DATE:20250520
DTSTAMP:20260424T084048
CREATED:20250318T061059Z
LAST-MODIFIED:20250318T063915Z
UID:1848-1747612800-1747699199@onomichi-mitsubishi.com
SUMMARY:休業日
DESCRIPTION:
URL:https://onomichi-mitsubishi.com/event/%e4%bc%91%e6%a5%ad%e6%97%a5-255/
CATEGORIES:休業日
END:VEVENT
BEGIN:VEVENT
DTSTART;VALUE=DATE:20250526
DTEND;VALUE=DATE:20250527
DTSTAMP:20260424T084048
CREATED:20250318T061100Z
LAST-MODIFIED:20250318T063915Z
UID:1849-1748217600-1748303999@onomichi-mitsubishi.com
SUMMARY:休業日
DESCRIPTION:
URL:https://onomichi-mitsubishi.com/event/%e4%bc%91%e6%a5%ad%e6%97%a5-256/
CATEGORIES:休業日
END:VEVENT
END:VCALENDAR