BEGIN:VCALENDAR
VERSION:2.0
PRODID:-//尾道三菱自動車販売株式会社 - ECPv6.14.2//NONSGML v1.0//EN
CALSCALE:GREGORIAN
METHOD:PUBLISH
X-ORIGINAL-URL:https://onomichi-mitsubishi.com
X-WR-CALDESC:尾道三菱自動車販売株式会社 のイベント
REFRESH-INTERVAL;VALUE=DURATION:PT1H
X-Robots-Tag:noindex
X-PUBLISHED-TTL:PT1H
BEGIN:VTIMEZONE
TZID:Asia/Tokyo
BEGIN:STANDARD
TZOFFSETFROM:+0900
TZOFFSETTO:+0900
TZNAME:JST
DTSTART:20250101T000000
END:STANDARD
END:VTIMEZONE
BEGIN:VEVENT
DTSTART;VALUE=DATE:20250901
DTEND;VALUE=DATE:20250902
DTSTAMP:20260424T025615
CREATED:20250318T061214Z
LAST-MODIFIED:20250318T064031Z
UID:1872-1756684800-1756771199@onomichi-mitsubishi.com
SUMMARY:休業日
DESCRIPTION:
URL:https://onomichi-mitsubishi.com/event/%e4%bc%91%e6%a5%ad%e6%97%a5-279/
CATEGORIES:休業日
END:VEVENT
BEGIN:VEVENT
DTSTART;VALUE=DATE:20250902
DTEND;VALUE=DATE:20250903
DTSTAMP:20260424T025615
CREATED:20250318T061215Z
LAST-MODIFIED:20250318T064032Z
UID:1873-1756771200-1756857599@onomichi-mitsubishi.com
SUMMARY:休業日
DESCRIPTION:
URL:https://onomichi-mitsubishi.com/event/%e4%bc%91%e6%a5%ad%e6%97%a5-280/
CATEGORIES:休業日
END:VEVENT
BEGIN:VEVENT
DTSTART;VALUE=DATE:20250908
DTEND;VALUE=DATE:20250909
DTSTAMP:20260424T025615
CREATED:20250318T061215Z
LAST-MODIFIED:20250318T064032Z
UID:1874-1757289600-1757375999@onomichi-mitsubishi.com
SUMMARY:休業日
DESCRIPTION:
URL:https://onomichi-mitsubishi.com/event/%e4%bc%91%e6%a5%ad%e6%97%a5-281/
CATEGORIES:休業日
END:VEVENT
BEGIN:VEVENT
DTSTART;VALUE=DATE:20250915
DTEND;VALUE=DATE:20250916
DTSTAMP:20260424T025615
CREATED:20250318T061229Z
LAST-MODIFIED:20250318T064232Z
UID:1875-1757894400-1757980799@onomichi-mitsubishi.com
SUMMARY:休業日
DESCRIPTION:
URL:https://onomichi-mitsubishi.com/event/%e4%bc%91%e6%a5%ad%e6%97%a5-282/
CATEGORIES:休業日
END:VEVENT
BEGIN:VEVENT
DTSTART;VALUE=DATE:20250922
DTEND;VALUE=DATE:20250923
DTSTAMP:20260424T025615
CREATED:20250318T061230Z
LAST-MODIFIED:20250318T064232Z
UID:1876-1758499200-1758585599@onomichi-mitsubishi.com
SUMMARY:休業日
DESCRIPTION:
URL:https://onomichi-mitsubishi.com/event/%e4%bc%91%e6%a5%ad%e6%97%a5-283/
CATEGORIES:休業日
END:VEVENT
BEGIN:VEVENT
DTSTART;VALUE=DATE:20250929
DTEND;VALUE=DATE:20250930
DTSTAMP:20260424T025615
CREATED:20250318T061232Z
LAST-MODIFIED:20250318T064233Z
UID:1877-1759104000-1759190399@onomichi-mitsubishi.com
SUMMARY:休業日
DESCRIPTION:
URL:https://onomichi-mitsubishi.com/event/%e4%bc%91%e6%a5%ad%e6%97%a5-284/
CATEGORIES:休業日
END:VEVENT
END:VCALENDAR