BEGIN:VCALENDAR
VERSION:2.0
PRODID:-//尾道三菱自動車販売株式会社 - ECPv6.14.2//NONSGML v1.0//EN
CALSCALE:GREGORIAN
METHOD:PUBLISH
X-WR-CALNAME:尾道三菱自動車販売株式会社
X-ORIGINAL-URL:https://onomichi-mitsubishi.com
X-WR-CALDESC:尾道三菱自動車販売株式会社 のイベント
REFRESH-INTERVAL;VALUE=DURATION:PT1H
X-Robots-Tag:noindex
X-PUBLISHED-TTL:PT1H
BEGIN:VTIMEZONE
TZID:Asia/Tokyo
BEGIN:STANDARD
TZOFFSETFROM:+0900
TZOFFSETTO:+0900
TZNAME:JST
DTSTART:20250101T000000
END:STANDARD
END:VTIMEZONE
BEGIN:VEVENT
DTSTART;VALUE=DATE:20251006
DTEND;VALUE=DATE:20251007
DTSTAMP:20260424T012829
CREATED:20250318T061233Z
LAST-MODIFIED:20250318T064233Z
UID:1878-1759708800-1759795199@onomichi-mitsubishi.com
SUMMARY:休業日
DESCRIPTION:
URL:https://onomichi-mitsubishi.com/event/%e4%bc%91%e6%a5%ad%e6%97%a5-285/
CATEGORIES:休業日
END:VEVENT
BEGIN:VEVENT
DTSTART;VALUE=DATE:20251007
DTEND;VALUE=DATE:20251008
DTSTAMP:20260424T012829
CREATED:20250318T061233Z
LAST-MODIFIED:20250318T064233Z
UID:1879-1759795200-1759881599@onomichi-mitsubishi.com
SUMMARY:休業日
DESCRIPTION:
URL:https://onomichi-mitsubishi.com/event/%e4%bc%91%e6%a5%ad%e6%97%a5-286/
CATEGORIES:休業日
END:VEVENT
BEGIN:VEVENT
DTSTART;VALUE=DATE:20251013
DTEND;VALUE=DATE:20251014
DTSTAMP:20260424T012829
CREATED:20250318T061243Z
LAST-MODIFIED:20250318T064433Z
UID:1880-1760313600-1760399999@onomichi-mitsubishi.com
SUMMARY:休業日
DESCRIPTION:
URL:https://onomichi-mitsubishi.com/event/%e4%bc%91%e6%a5%ad%e6%97%a5-287/
CATEGORIES:休業日
END:VEVENT
BEGIN:VEVENT
DTSTART;VALUE=DATE:20251020
DTEND;VALUE=DATE:20251021
DTSTAMP:20260424T012829
CREATED:20250318T061244Z
LAST-MODIFIED:20250318T064433Z
UID:1881-1760918400-1761004799@onomichi-mitsubishi.com
SUMMARY:休業日
DESCRIPTION:
URL:https://onomichi-mitsubishi.com/event/%e4%bc%91%e6%a5%ad%e6%97%a5-288/
CATEGORIES:休業日
END:VEVENT
BEGIN:VEVENT
DTSTART;VALUE=DATE:20251027
DTEND;VALUE=DATE:20251028
DTSTAMP:20260424T012829
CREATED:20250318T061244Z
LAST-MODIFIED:20250318T064434Z
UID:1882-1761523200-1761609599@onomichi-mitsubishi.com
SUMMARY:休業日
DESCRIPTION:
URL:https://onomichi-mitsubishi.com/event/%e4%bc%91%e6%a5%ad%e6%97%a5-289/
CATEGORIES:休業日
END:VEVENT
END:VCALENDAR