BEGIN:VCALENDAR
VERSION:2.0
PRODID:-//尾道三菱自動車販売株式会社 - ECPv6.14.2//NONSGML v1.0//EN
CALSCALE:GREGORIAN
METHOD:PUBLISH
X-ORIGINAL-URL:https://onomichi-mitsubishi.com
X-WR-CALDESC:尾道三菱自動車販売株式会社 のイベント
REFRESH-INTERVAL;VALUE=DURATION:PT1H
X-Robots-Tag:noindex
X-PUBLISHED-TTL:PT1H
BEGIN:VTIMEZONE
TZID:Asia/Tokyo
BEGIN:STANDARD
TZOFFSETFROM:+0900
TZOFFSETTO:+0900
TZNAME:JST
DTSTART:20260101T000000
END:STANDARD
END:VTIMEZONE
BEGIN:VEVENT
DTSTART;VALUE=DATE:20261102
DTEND;VALUE=DATE:20261104
DTSTAMP:20260424T023351
CREATED:20260402T032658Z
LAST-MODIFIED:20260402T032658Z
UID:2294-1793577600-1793750399@onomichi-mitsubishi.com
SUMMARY:休業日
DESCRIPTION:
URL:https://onomichi-mitsubishi.com/event/%e4%bc%91%e6%a5%ad%e6%97%a5-358/
CATEGORIES:休業日
END:VEVENT
BEGIN:VEVENT
DTSTART;VALUE=DATE:20261109
DTEND;VALUE=DATE:20261110
DTSTAMP:20260424T023351
CREATED:20260402T032725Z
LAST-MODIFIED:20260402T032725Z
UID:2296-1794182400-1794268799@onomichi-mitsubishi.com
SUMMARY:休業日
DESCRIPTION:
URL:https://onomichi-mitsubishi.com/event/%e4%bc%91%e6%a5%ad%e6%97%a5-359/
CATEGORIES:休業日
END:VEVENT
BEGIN:VEVENT
DTSTART;VALUE=DATE:20261116
DTEND;VALUE=DATE:20261117
DTSTAMP:20260424T023351
CREATED:20260402T032756Z
LAST-MODIFIED:20260402T032806Z
UID:2298-1794787200-1794873599@onomichi-mitsubishi.com
SUMMARY:休業日
DESCRIPTION:
URL:https://onomichi-mitsubishi.com/event/%e4%bc%91%e6%a5%ad%e6%97%a5-360/
CATEGORIES:休業日
END:VEVENT
BEGIN:VEVENT
DTSTART;VALUE=DATE:20261123
DTEND;VALUE=DATE:20261124
DTSTAMP:20260424T023351
CREATED:20260402T032908Z
LAST-MODIFIED:20260402T032908Z
UID:2302-1795392000-1795478399@onomichi-mitsubishi.com
SUMMARY:休業日
DESCRIPTION:
URL:https://onomichi-mitsubishi.com/event/%e4%bc%91%e6%a5%ad%e6%97%a5-362/
CATEGORIES:休業日
END:VEVENT
BEGIN:VEVENT
DTSTART;VALUE=DATE:20261130
DTEND;VALUE=DATE:20261201
DTSTAMP:20260424T023351
CREATED:20260402T032932Z
LAST-MODIFIED:20260402T032932Z
UID:2304-1795996800-1796083199@onomichi-mitsubishi.com
SUMMARY:休業日
DESCRIPTION:
URL:https://onomichi-mitsubishi.com/event/%e4%bc%91%e6%a5%ad%e6%97%a5-363/
CATEGORIES:休業日
END:VEVENT
END:VCALENDAR