BEGIN:VCALENDAR
VERSION:2.0
PRODID:-//尾道三菱自動車販売株式会社 - ECPv6.14.2//NONSGML v1.0//EN
CALSCALE:GREGORIAN
METHOD:PUBLISH
X-WR-CALNAME:尾道三菱自動車販売株式会社
X-ORIGINAL-URL:https://onomichi-mitsubishi.com
X-WR-CALDESC:尾道三菱自動車販売株式会社 のイベント
REFRESH-INTERVAL;VALUE=DURATION:PT1H
X-Robots-Tag:noindex
X-PUBLISHED-TTL:PT1H
BEGIN:VTIMEZONE
TZID:Asia/Tokyo
BEGIN:STANDARD
TZOFFSETFROM:+0900
TZOFFSETTO:+0900
TZNAME:JST
DTSTART:20260101T000000
END:STANDARD
END:VTIMEZONE
BEGIN:VEVENT
DTSTART;VALUE=DATE:20261228
DTEND;VALUE=DATE:20270106
DTSTAMP:20260424T220625
CREATED:20260402T033149Z
LAST-MODIFIED:20260402T033149Z
UID:2314-1798416000-1799193599@onomichi-mitsubishi.com
SUMMARY:冬季休業日
DESCRIPTION:
URL:https://onomichi-mitsubishi.com/event/%e5%86%ac%e5%ad%a3%e4%bc%91%e6%a5%ad%e6%97%a5/
CATEGORIES:休業日
END:VEVENT
BEGIN:VEVENT
DTSTART;VALUE=DATE:20270111
DTEND;VALUE=DATE:20270112
DTSTAMP:20260424T220625
CREATED:20260402T033227Z
LAST-MODIFIED:20260402T033227Z
UID:2316-1799625600-1799711999@onomichi-mitsubishi.com
SUMMARY:休業日
DESCRIPTION:
URL:https://onomichi-mitsubishi.com/event/%e4%bc%91%e6%a5%ad%e6%97%a5-368/
CATEGORIES:休業日
END:VEVENT
BEGIN:VEVENT
DTSTART;VALUE=DATE:20270118
DTEND;VALUE=DATE:20270119
DTSTAMP:20260424T220625
CREATED:20260402T033318Z
LAST-MODIFIED:20260402T033318Z
UID:2320-1800230400-1800316799@onomichi-mitsubishi.com
SUMMARY:休業日
DESCRIPTION:
URL:https://onomichi-mitsubishi.com/event/%e4%bc%91%e6%a5%ad%e6%97%a5-370/
CATEGORIES:休業日
END:VEVENT
BEGIN:VEVENT
DTSTART;VALUE=DATE:20270125
DTEND;VALUE=DATE:20270126
DTSTAMP:20260424T220625
CREATED:20260402T033343Z
LAST-MODIFIED:20260402T033343Z
UID:2322-1800835200-1800921599@onomichi-mitsubishi.com
SUMMARY:休業日
DESCRIPTION:
URL:https://onomichi-mitsubishi.com/event/%e4%bc%91%e6%a5%ad%e6%97%a5-371/
CATEGORIES:休業日
END:VEVENT
END:VCALENDAR